BEGIN:VCALENDAR
VERSION:2.0
PRODID:-//https://www.tsvgambach.de///NONSGML kigkonsult.se iCalcreator 2.10.15//
METHOD:PUBLISH
BEGIN:VEVENT
UID:20260419T212035CEST-2427D8ZT8a@https://www.tsvgambach.de/
DTSTAMP:20260419T192035Z
DESCRIPTION: https://www.tsvgambach.de/aktuelles/kalender/event/115-sportfe
 st
DTSTART;VALUE=DATE:20190701
LOCATION:TSV-Gambach e. V. (Stadtweg 3\, 97753 Karlstadt\, Deutschland)
SUMMARY:Sportfest
URL:https://www.tsvgambach.de/aktuelles/kalender/event/115-sportfest
END:VEVENT
END:VCALENDAR
