BEGIN:VCALENDAR
VERSION:2.0
PRODID:-//https://www.tsvgambach.de///NONSGML kigkonsult.se iCalcreator 2.10.15//
METHOD:PUBLISH
BEGIN:VEVENT
UID:20260419T154618CEST-65776wK22n@https://www.tsvgambach.de/
DTSTAMP:20260419T134618Z
DESCRIPTION: https://www.tsvgambach.de/aktuelles/kalender/event/113-sportfe
 st
DTSTART;VALUE=DATE:20190628
LOCATION:TSV-Gambach e. V. (Stadtweg 3\, 97753 Karlstadt\, Deutschland)
SUMMARY:Sportfest
URL:https://www.tsvgambach.de/aktuelles/kalender/event/113-sportfest
END:VEVENT
END:VCALENDAR
